BEGIN:VCALENDAR
VERSION:2.0
PRODID:-//Tukios.com/
BEGIN:VEVENT
UID:334cbaea-d5fc-4737-a32b-246dee0530ea@www.winnfieldmemorialfh.com
DTSTAMP:20260422T015848Z
DTSTART:20260425T160000Z
DTEND:20260425T170000Z
SUMMARY:Funeral Service
DESCRIPTION:
URL:https://www.winnfieldmemorialfh.com/obituaries/ms-margie-demery
LOCATION: 318 North St  Natchitoches LA 71457
GEO:31.7576928;-93.0975931
END:VEVENT
END:VCALENDAR