BEGIN:VCALENDAR
VERSION:2.0
PRODID:-//Tukios.com/
BEGIN:VEVENT
UID:6bdedb1a-91da-4c7c-a795-ff2b772cc079@www.winnfieldmemorialfh.com
DTSTAMP:20260422T015854Z
DTSTART:20260425T150000Z
DTEND:20260425T160000Z
SUMMARY:Visitation
DESCRIPTION:
URL:https://www.winnfieldmemorialfh.com/obituaries/ms-margie-demery
LOCATION: 318 North St  Natchitoches LA 71457
GEO:31.7576928;-93.0975931
END:VEVENT
END:VCALENDAR